BEGIN:VCALENDAR
VERSION:2.0
PRODID:-//San Diego County Honorary Deputy Sheriffs Association - ECPv6.15.20//NONSGML v1.0//EN
CALSCALE:GREGORIAN
METHOD:PUBLISH
X-WR-CALNAME:San Diego County Honorary Deputy Sheriffs Association
X-ORIGINAL-URL:https://sdchdsa.org
X-WR-CALDESC:Events for San Diego County Honorary Deputy Sheriffs Association
REFRESH-INTERVAL;VALUE=DURATION:PT1H
X-Robots-Tag:noindex
X-PUBLISHED-TTL:PT1H
BEGIN:VTIMEZONE
TZID:America/Los_Angeles
BEGIN:DAYLIGHT
TZOFFSETFROM:-0800
TZOFFSETTO:-0700
TZNAME:PDT
DTSTART:20240310T100000
END:DAYLIGHT
BEGIN:STANDARD
TZOFFSETFROM:-0700
TZOFFSETTO:-0800
TZNAME:PST
DTSTART:20241103T090000
END:STANDARD
BEGIN:DAYLIGHT
TZOFFSETFROM:-0800
TZOFFSETTO:-0700
TZNAME:PDT
DTSTART:20250309T100000
END:DAYLIGHT
BEGIN:STANDARD
TZOFFSETFROM:-0700
TZOFFSETTO:-0800
TZNAME:PST
DTSTART:20251102T090000
END:STANDARD
BEGIN:DAYLIGHT
TZOFFSETFROM:-0800
TZOFFSETTO:-0700
TZNAME:PDT
DTSTART:20260308T100000
END:DAYLIGHT
BEGIN:STANDARD
TZOFFSETFROM:-0700
TZOFFSETTO:-0800
TZNAME:PST
DTSTART:20261101T090000
END:STANDARD
END:VTIMEZONE
BEGIN:VEVENT
DTSTART;TZID=America/Los_Angeles:20250915T110000
DTEND;TZID=America/Los_Angeles:20250915T130000
DTSTAMP:20260420T024442
CREATED:20250701T132451Z
LAST-MODIFIED:20250911T005329Z
UID:5614-1757934000-1757941200@sdchdsa.org
SUMMARY:September Luncheon 2025
DESCRIPTION:  \n\n\nRESERVATIONS ARE NOW CLOSED \nMonday\, September 15\, 2025Join us for the HDSA BBQ Luncheon featuring Guest Speaker Patricia Ceballos (Reentry Manager) with the San Diego County Sheriff’s Office. \nThe deadline for reservations is 5:00 p.m. on September 12\, 2025. \nPROGRAM:11amNew Member Orientation12pm Luncheon/Guest Speaker – Patricia Ceballos \nRaffle Opportunity: – “Coffee with Kelly”Enjoy a cup of coffee and casual conversation with Sheriff Kelly Martinez! This is an excellent opportunity to connect\, ask questions\, and hear firsthand about what’s happening in our community. Must be present to win. Good Luck!! \nPatricia Ceballos(Reentry Manager) with the San Diego County Sheriff’s Office. \nAs the reentry services manager\, Patricia Ceballos and her team provide evidence-based reentry services\, striving to reduce recidivism and increase public safety in collaboration with criminal justice partners and community agencies. \nFor more information\, don’t hesitate to contact HDSA CEO Heather Araiza at 858-882-7645. \nMENU:Buffet including salads\, pasta\, pizzas\, and more. \nLOCATION:Amalfi Cucina1035 La Bonita Dr\,San Marcos\, CA 92078 \n			\n			\n				\n				\n				\n				\n			\n				\n				\n			\n				\n				\n				\n				\n				\n				\n				\n				\n				\n				\n				\n				\n				\n				Click Here For Printable flier
URL:https://sdchdsa.org/event/september-luncheon-2025/
LOCATION:Amalfi Cucina\, 1035 La Bonita Dr.\, San Marcos\, 92078\, United States
CATEGORIES:Luncheon
ATTACH;FMTTYPE=image/jpeg:https://sdchdsa.org/wp-content/uploads/2025/07/HDSA-September-2025-Luncheon-web.jpg
END:VEVENT
END:VCALENDAR