BEGIN:VCALENDAR
VERSION:2.0
PRODID:-//San Diego County Honorary Deputy Sheriffs Association - ECPv6.15.20//NONSGML v1.0//EN
CALSCALE:GREGORIAN
METHOD:PUBLISH
X-ORIGINAL-URL:https://sdchdsa.org
X-WR-CALDESC:Events for San Diego County Honorary Deputy Sheriffs Association
REFRESH-INTERVAL;VALUE=DURATION:PT1H
X-Robots-Tag:noindex
X-PUBLISHED-TTL:PT1H
BEGIN:VTIMEZONE
TZID:America/Los_Angeles
BEGIN:DAYLIGHT
TZOFFSETFROM:-0800
TZOFFSETTO:-0700
TZNAME:PDT
DTSTART:20220313T100000
END:DAYLIGHT
BEGIN:STANDARD
TZOFFSETFROM:-0700
TZOFFSETTO:-0800
TZNAME:PST
DTSTART:20221106T090000
END:STANDARD
BEGIN:DAYLIGHT
TZOFFSETFROM:-0800
TZOFFSETTO:-0700
TZNAME:PDT
DTSTART:20230312T100000
END:DAYLIGHT
BEGIN:STANDARD
TZOFFSETFROM:-0700
TZOFFSETTO:-0800
TZNAME:PST
DTSTART:20231105T090000
END:STANDARD
BEGIN:DAYLIGHT
TZOFFSETFROM:-0800
TZOFFSETTO:-0700
TZNAME:PDT
DTSTART:20240310T100000
END:DAYLIGHT
BEGIN:STANDARD
TZOFFSETFROM:-0700
TZOFFSETTO:-0800
TZNAME:PST
DTSTART:20241103T090000
END:STANDARD
BEGIN:DAYLIGHT
TZOFFSETFROM:-0800
TZOFFSETTO:-0700
TZNAME:PDT
DTSTART:20250309T100000
END:DAYLIGHT
BEGIN:STANDARD
TZOFFSETFROM:-0700
TZOFFSETTO:-0800
TZNAME:PST
DTSTART:20251102T090000
END:STANDARD
END:VTIMEZONE
BEGIN:VEVENT
DTSTART;TZID=America/Los_Angeles:20240913T110000
DTEND;TZID=America/Los_Angeles:20240913T123000
DTSTAMP:20260421T014639
CREATED:20240816T150408Z
LAST-MODIFIED:20240816T150408Z
UID:4867-1726225200-1726230600@sdchdsa.org
SUMMARY:Coffee Meet and Greet
DESCRIPTION:Join us on Friday\, September 13th\, at 11 a.m. at Invita Cafe for an opportunity to mingle and chat with board members and fellow HDSA members and learn what’s in store for HDSA as we celebrate our 50th Anniversary in 2024. \nAll members are invited. \nThis is a great opportunity to introduce potential new members to the HDSA and support our drive for 50 new members during our 50th anniversary. \nNo RSVP is necessary. \nLocation:\nInvita Cafe\n9806 Embarcadero Lane\nCarlsbad\, CA 92011 \nThe event begins at 11am
URL:https://sdchdsa.org/event/coffee-meet-greet/
LOCATION:Invita Cafe\, 9806 Embarcadero Lane\, Carlsbad\, 92011\, United States
CATEGORIES:Membership Event
ATTACH;FMTTYPE=image/jpeg:https://sdchdsa.org/wp-content/uploads/2024/08/Coffee-in-Carslbad-flier-image.jpg
END:VEVENT
BEGIN:VEVENT
DTSTART;TZID=America/Los_Angeles:20230614T173000
DTEND;TZID=America/Los_Angeles:20230614T203000
DTSTAMP:20260421T014639
CREATED:20230109T204032Z
LAST-MODIFIED:20230522T172528Z
UID:3960-1686763800-1686774600@sdchdsa.org
SUMMARY:JUNE 14\, 2023 - MEMBERSHIP APPRECIATION & DRIVE
DESCRIPTION:Join the HDSA and hosts\, RSJ Law\, for a special cocktail and dinner reception\, as we give thank to YOU\, the members of HDSA! \nRSVP by JUNE 5th!
URL:https://sdchdsa.org/event/june-14-2023-membership-appreciation-drive/
LOCATION:RSJ Law\, 303 A Street\, Suite #400\, San Diego\, CA\, 92101\, United States
CATEGORIES:Membership Event
ATTACH;FMTTYPE=image/jpeg:https://sdchdsa.org/wp-content/uploads/2023/05/2023-Membership-Appreciation-Party-3.jpg
END:VEVENT
END:VCALENDAR